BEGIN:VCALENDAR
VERSION:2.0
PRODID:-//The Village at Rolesville - ECPv6.15.20//NONSGML v1.0//EN
CALSCALE:GREGORIAN
METHOD:PUBLISH
X-ORIGINAL-URL:https://thevillageatrolesvillenc.com
X-WR-CALDESC:Events for The Village at Rolesville
REFRESH-INTERVAL;VALUE=DURATION:PT1H
X-Robots-Tag:noindex
X-PUBLISHED-TTL:PT1H
BEGIN:VTIMEZONE
TZID:UTC
BEGIN:STANDARD
TZOFFSETFROM:+0000
TZOFFSETTO:+0000
TZNAME:UTC
DTSTART:20250101T000000
END:STANDARD
END:VTIMEZONE
BEGIN:VEVENT
DTSTART;TZID=UTC:20260808T110000
DTEND;TZID=UTC:20260808T140000
DTSTAMP:20260423T215017
CREATED:20260321T003804Z
LAST-MODIFIED:20260321T003804Z
UID:850-1786186800-1786197600@thevillageatrolesvillenc.com
SUMMARY:Dog Days of Summer Pool Party
DESCRIPTION:
URL:https://thevillageatrolesvillenc.com/event/dog-days-of-summer-pool-party-3/
END:VEVENT
BEGIN:VEVENT
DTSTART;TZID=UTC:20260815T203000
DTEND;TZID=UTC:20260815T230000
DTSTAMP:20260423T215017
CREATED:20260321T003946Z
LAST-MODIFIED:20260321T003946Z
UID:852-1786825800-1786834800@thevillageatrolesvillenc.com
SUMMARY:Adult Swim
DESCRIPTION:
URL:https://thevillageatrolesvillenc.com/event/adult-swim-9/
END:VEVENT
END:VCALENDAR