BEGIN:VCALENDAR
VERSION:2.0
PRODID:-//The Village at Rolesville - ECPv6.15.20//NONSGML v1.0//EN
CALSCALE:GREGORIAN
METHOD:PUBLISH
X-WR-CALNAME:The Village at Rolesville
X-ORIGINAL-URL:https://thevillageatrolesvillenc.com
X-WR-CALDESC:Events for The Village at Rolesville
REFRESH-INTERVAL;VALUE=DURATION:PT1H
X-Robots-Tag:noindex
X-PUBLISHED-TTL:PT1H
BEGIN:VTIMEZONE
TZID:UTC
BEGIN:STANDARD
TZOFFSETFROM:+0000
TZOFFSETTO:+0000
TZNAME:UTC
DTSTART:20250101T000000
END:STANDARD
END:VTIMEZONE
BEGIN:VEVENT
DTSTART;TZID=UTC:20260704T110000
DTEND;TZID=UTC:20260704T140000
DTSTAMP:20260423T195841
CREATED:20260321T003626Z
LAST-MODIFIED:20260321T003626Z
UID:846-1783162800-1783173600@thevillageatrolesvillenc.com
SUMMARY:Independence Day Pool Party
DESCRIPTION:
URL:https://thevillageatrolesvillenc.com/event/independence-day-pool-party-3/
END:VEVENT
BEGIN:VEVENT
DTSTART;TZID=UTC:20260718T203000
DTEND;TZID=UTC:20260718T230000
DTSTAMP:20260423T195841
CREATED:20260321T003719Z
LAST-MODIFIED:20260321T003719Z
UID:848-1784406600-1784415600@thevillageatrolesvillenc.com
SUMMARY:Adult Swim
DESCRIPTION:
URL:https://thevillageatrolesvillenc.com/event/adult-swim-8/
END:VEVENT
END:VCALENDAR