BEGIN:VCALENDAR
VERSION:2.0
PRODID:-//The Village at Rolesville - ECPv6.15.20//NONSGML v1.0//EN
CALSCALE:GREGORIAN
METHOD:PUBLISH
X-WR-CALNAME:The Village at Rolesville
X-ORIGINAL-URL:https://thevillageatrolesvillenc.com
X-WR-CALDESC:Events for The Village at Rolesville
REFRESH-INTERVAL;VALUE=DURATION:PT1H
X-Robots-Tag:noindex
X-PUBLISHED-TTL:PT1H
BEGIN:VTIMEZONE
TZID:UTC
BEGIN:STANDARD
TZOFFSETFROM:+0000
TZOFFSETTO:+0000
TZNAME:UTC
DTSTART:20240101T000000
END:STANDARD
END:VTIMEZONE
BEGIN:VEVENT
DTSTART;VALUE=DATE:20251201
DTEND;VALUE=DATE:20251202
DTSTAMP:20260423T215439
CREATED:20230219T202506Z
LAST-MODIFIED:20250518T140009Z
UID:725-1764547200-1764633599@thevillageatrolesvillenc.com
SUMMARY:VAR Annual Meeting
DESCRIPTION:Meeting time TBD
URL:https://thevillageatrolesvillenc.com/event/var-annual-meeting/
LOCATION:Village Church Rolesville\, 410 Southtown Cir\, Rolesville\, NC\, 27571
END:VEVENT
END:VCALENDAR