BEGIN:VCALENDAR
VERSION:2.0
PRODID:-//The Village at Rolesville - ECPv6.15.20//NONSGML v1.0//EN
CALSCALE:GREGORIAN
METHOD:PUBLISH
X-WR-CALNAME:The Village at Rolesville
X-ORIGINAL-URL:https://thevillageatrolesvillenc.com
X-WR-CALDESC:Events for The Village at Rolesville
REFRESH-INTERVAL;VALUE=DURATION:PT1H
X-Robots-Tag:noindex
X-PUBLISHED-TTL:PT1H
BEGIN:VTIMEZONE
TZID:UTC
BEGIN:STANDARD
TZOFFSETFROM:+0000
TZOFFSETTO:+0000
TZNAME:UTC
DTSTART:20240101T000000
END:STANDARD
END:VTIMEZONE
BEGIN:VEVENT
DTSTART;TZID=UTC:20250816T110000
DTEND;TZID=UTC:20250816T140000
DTSTAMP:20260424T042959
CREATED:20240220T004825Z
LAST-MODIFIED:20250518T134517Z
UID:781-1755342000-1755352800@thevillageatrolesvillenc.com
SUMMARY:Dog Days of Summer Pool Party
DESCRIPTION:🌭 Dog Days of Summer Pool Party! ☀️💦 \nCome beat the heat and celebrate the Dog Days of Summer with good friends\, sunshine\, and sizzling summer vibes! Humans only! \nEnjoy:🌭 Hot dogs fresh off the grill🎶 Cool summer tunes🎁 Fun door prizes💦 Poolside relaxation & fun for all ages \nBring your floaties\, appetite\, and summer spirit—we’re closing out the season in classic style! \nVillage at Rolesville residents and guests only.
URL:https://thevillageatrolesvillenc.com/event/dog-days-of-summer-pool-party-2/
END:VEVENT
BEGIN:VEVENT
DTSTART;TZID=UTC:20250823T203000
DTEND;TZID=UTC:20250823T230000
DTSTAMP:20260424T042959
CREATED:20240220T004753Z
LAST-MODIFIED:20250518T134348Z
UID:779-1755981000-1755990000@thevillageatrolesvillenc.com
SUMMARY:Adult Swim (Tentative)
DESCRIPTION:🌙 Adult Swim – After Hours 💦A Night by the Pool\, Just for Grown-Ups \nUnwind\, relax\, and enjoy the pool kid-free for an evening of fun and chill vibes. Ages 18+ only \nWhether you want to float under the stars or lounge poolside with friends\, this night is just for you. \nLeave the kiddos at home—it’s your time to shine! \nVillage at Rolesville residents and guests only.
URL:https://thevillageatrolesvillenc.com/event/adult-swim-5/
END:VEVENT
BEGIN:VEVENT
DTSTART;TZID=UTC:20250830T110000
DTEND;TZID=UTC:20250830T140000
DTSTAMP:20260424T042959
CREATED:20230219T202259Z
LAST-MODIFIED:20250518T133644Z
UID:719-1756551600-1756562400@thevillageatrolesvillenc.com
SUMMARY:Farewell to Summer Pool Party
DESCRIPTION:Join us for an End-of-Summer Pool Partyas we soak up the last rays of the season! \nEnjoy a fun-filled afternoon with:🍔 Lunch provided🎶 Beach music vibes🎁 Exciting door prizes \nBring your towel\, sunscreen\, and summer spirit!\n \nResidents of the Village at Rolesville and their guests only!
URL:https://thevillageatrolesvillenc.com/event/farewell-to-summer-pool-party/
END:VEVENT
END:VCALENDAR