BEGIN:VCALENDAR
VERSION:2.0
PRODID:-//The Village at Rolesville - ECPv6.15.20//NONSGML v1.0//EN
CALSCALE:GREGORIAN
METHOD:PUBLISH
X-ORIGINAL-URL:https://thevillageatrolesvillenc.com
X-WR-CALDESC:Events for The Village at Rolesville
REFRESH-INTERVAL;VALUE=DURATION:PT1H
X-Robots-Tag:noindex
X-PUBLISHED-TTL:PT1H
BEGIN:VTIMEZONE
TZID:UTC
BEGIN:STANDARD
TZOFFSETFROM:+0000
TZOFFSETTO:+0000
TZNAME:UTC
DTSTART:20240101T000000
END:STANDARD
END:VTIMEZONE
BEGIN:VEVENT
DTSTART;TZID=UTC:20250704T110000
DTEND;TZID=UTC:20250704T140000
DTSTAMP:20260424T062356
CREATED:20240220T004718Z
LAST-MODIFIED:20250518T133512Z
UID:777-1751626800-1751637600@thevillageatrolesvillenc.com
SUMMARY:Red\, White & Blue Pool Party
DESCRIPTION:🎆 Celebrate the 4th of July with a Splash! 🇺🇸💦 \nYou’re invited to a Red\, White & Blue Pool Partyto celebrate Independence Day in style! \nCome enjoy:🌭 Lunch provided🎶 Patriotic tunes & beach music🎁 Fun door prizes💥 Plenty of poolside fun for all ages! \nBring your swimsuit\, sunscreen\, and festive spirit—we’ll take care of the rest! \n\nResidents of the Village at Rolesville and their guests only!
URL:https://thevillageatrolesvillenc.com/event/independence-day-pool-party-2/
END:VEVENT
BEGIN:VEVENT
DTSTART;TZID=UTC:20250719T203000
DTEND;TZID=UTC:20250719T230000
DTSTAMP:20260424T062356
CREATED:20240220T004849Z
LAST-MODIFIED:20250518T134548Z
UID:783-1752957000-1752966000@thevillageatrolesvillenc.com
SUMMARY:Adult Swim (Tentative)
DESCRIPTION:🌙 Adult Swim – After Hours 💦A Night by the Pool\, Just for Grown-Ups \nUnwind\, relax\, and enjoy the pool kid-free for an evening of fun and chill vibes. Ages 18+ only \nWhether you want to float under the stars or lounge poolside with friends\, this night is just for you. \nLeave the kiddos at home—it’s your time to shine! \nVillage at Rolesville residents and guests only.
URL:https://thevillageatrolesvillenc.com/event/adult-swim-6/
END:VEVENT
END:VCALENDAR