BEGIN:VCALENDAR
VERSION:2.0
PRODID:-//The Village at Rolesville - ECPv6.15.20//NONSGML v1.0//EN
CALSCALE:GREGORIAN
METHOD:PUBLISH
X-WR-CALNAME:The Village at Rolesville
X-ORIGINAL-URL:https://thevillageatrolesvillenc.com
X-WR-CALDESC:Events for The Village at Rolesville
REFRESH-INTERVAL;VALUE=DURATION:PT1H
X-Robots-Tag:noindex
X-PUBLISHED-TTL:PT1H
BEGIN:VTIMEZONE
TZID:UTC
BEGIN:STANDARD
TZOFFSETFROM:+0000
TZOFFSETTO:+0000
TZNAME:UTC
DTSTART:20210101T000000
END:STANDARD
END:VTIMEZONE
BEGIN:VEVENT
DTSTART;TZID=UTC:20220702T120000
DTEND;TZID=UTC:20220702T150000
DTSTAMP:20260424T141416
CREATED:20220705T233827Z
LAST-MODIFIED:20220705T233827Z
UID:500-1656763200-1656774000@thevillageatrolesvillenc.com
SUMMARY:Independence Day Pool Party
DESCRIPTION:Neighbors\, \n\n\nWe can’t wait for you to join us TOMORROW Saturday\, July 2 from 12pm-3pm to celebrate America’s birthday!  We have a great day planned with music\, food\, delicious treats\, prizes\, and a surprise guest! Come out and join us\, no RSVP needed!\n\n\n\nDon’t forget to celebrate all over again with the Town of Rolesville on Monday\, July 4th\, starting at 5pm.  More information can be found here. 
URL:https://thevillageatrolesvillenc.com/event/independence-day-pool-party/
LOCATION:Village at Rolesville Community Pool\, 400 Redford Place Dr\, Rolesville\, NC\, 27571\, United States
END:VEVENT
END:VCALENDAR