BEGIN:VCALENDAR
VERSION:2.0
PRODID:-//The Village at Rolesville - ECPv6.15.20//NONSGML v1.0//EN
CALSCALE:GREGORIAN
METHOD:PUBLISH
X-WR-CALNAME:The Village at Rolesville
X-ORIGINAL-URL:https://thevillageatrolesvillenc.com
X-WR-CALDESC:Events for The Village at Rolesville
REFRESH-INTERVAL;VALUE=DURATION:PT1H
X-Robots-Tag:noindex
X-PUBLISHED-TTL:PT1H
BEGIN:VTIMEZONE
TZID:UTC
BEGIN:STANDARD
TZOFFSETFROM:+0000
TZOFFSETTO:+0000
TZNAME:UTC
DTSTART:20250101T000000
END:STANDARD
END:VTIMEZONE
BEGIN:VEVENT
DTSTART;TZID=UTC:20260418T070000
DTEND;TZID=UTC:20260418T150000
DTSTAMP:20260423T233730
CREATED:20260321T003028Z
LAST-MODIFIED:20260324T182745Z
UID:838-1776495600-1776524400@thevillageatrolesvillenc.com
SUMMARY:Spring Community Yardsale
DESCRIPTION:
URL:https://thevillageatrolesvillenc.com/event/spring-community-yardsale/
END:VEVENT
BEGIN:VEVENT
DTSTART;VALUE=DATE:20260513
DTEND;VALUE=DATE:20260514
DTSTAMP:20260423T233730
CREATED:20260321T003344Z
LAST-MODIFIED:20260321T003344Z
UID:840-1778630400-1778716799@thevillageatrolesvillenc.com
SUMMARY:Pool Opens
DESCRIPTION:
URL:https://thevillageatrolesvillenc.com/event/pool-opens-2/
END:VEVENT
BEGIN:VEVENT
DTSTART;TZID=UTC:20260523T110000
DTEND;TZID=UTC:20260523T140000
DTSTAMP:20260423T233730
CREATED:20260321T003437Z
LAST-MODIFIED:20260321T003437Z
UID:842-1779534000-1779544800@thevillageatrolesvillenc.com
SUMMARY:Splash Into Summer Pool Party
DESCRIPTION:
URL:https://thevillageatrolesvillenc.com/event/splash-into-summer-pool-party/
END:VEVENT
BEGIN:VEVENT
DTSTART;TZID=UTC:20260620T203000
DTEND;TZID=UTC:20260620T230000
DTSTAMP:20260423T233730
CREATED:20260321T003531Z
LAST-MODIFIED:20260321T003531Z
UID:844-1781987400-1781996400@thevillageatrolesvillenc.com
SUMMARY:Adult Swim
DESCRIPTION:
URL:https://thevillageatrolesvillenc.com/event/adult-swim-7/
END:VEVENT
BEGIN:VEVENT
DTSTART;TZID=UTC:20260704T110000
DTEND;TZID=UTC:20260704T140000
DTSTAMP:20260423T233730
CREATED:20260321T003626Z
LAST-MODIFIED:20260321T003626Z
UID:846-1783162800-1783173600@thevillageatrolesvillenc.com
SUMMARY:Independence Day Pool Party
DESCRIPTION:
URL:https://thevillageatrolesvillenc.com/event/independence-day-pool-party-3/
END:VEVENT
BEGIN:VEVENT
DTSTART;TZID=UTC:20260718T203000
DTEND;TZID=UTC:20260718T230000
DTSTAMP:20260423T233730
CREATED:20260321T003719Z
LAST-MODIFIED:20260321T003719Z
UID:848-1784406600-1784415600@thevillageatrolesvillenc.com
SUMMARY:Adult Swim
DESCRIPTION:
URL:https://thevillageatrolesvillenc.com/event/adult-swim-8/
END:VEVENT
BEGIN:VEVENT
DTSTART;TZID=UTC:20260808T110000
DTEND;TZID=UTC:20260808T140000
DTSTAMP:20260423T233730
CREATED:20260321T003804Z
LAST-MODIFIED:20260321T003804Z
UID:850-1786186800-1786197600@thevillageatrolesvillenc.com
SUMMARY:Dog Days of Summer Pool Party
DESCRIPTION:
URL:https://thevillageatrolesvillenc.com/event/dog-days-of-summer-pool-party-3/
END:VEVENT
BEGIN:VEVENT
DTSTART;TZID=UTC:20260815T203000
DTEND;TZID=UTC:20260815T230000
DTSTAMP:20260423T233730
CREATED:20260321T003946Z
LAST-MODIFIED:20260321T003946Z
UID:852-1786825800-1786834800@thevillageatrolesvillenc.com
SUMMARY:Adult Swim
DESCRIPTION:
URL:https://thevillageatrolesvillenc.com/event/adult-swim-9/
END:VEVENT
BEGIN:VEVENT
DTSTART;TZID=UTC:20260905T110000
DTEND;TZID=UTC:20260905T140000
DTSTAMP:20260423T233730
CREATED:20260321T004043Z
LAST-MODIFIED:20260321T004424Z
UID:854-1788606000-1788616800@thevillageatrolesvillenc.com
SUMMARY:Farewell to Summer Pool Party
DESCRIPTION:
URL:https://thevillageatrolesvillenc.com/event/end-of-season-pool-party/
END:VEVENT
BEGIN:VEVENT
DTSTART;VALUE=DATE:20260913
DTEND;VALUE=DATE:20260914
DTSTAMP:20260423T233730
CREATED:20260321T004131Z
LAST-MODIFIED:20260321T004131Z
UID:856-1789257600-1789343999@thevillageatrolesvillenc.com
SUMMARY:Pool Season Ends
DESCRIPTION:
URL:https://thevillageatrolesvillenc.com/event/pool-season-ends-2/
END:VEVENT
BEGIN:VEVENT
DTSTART;TZID=UTC:20260919T070000
DTEND;TZID=UTC:20260919T150000
DTSTAMP:20260423T233730
CREATED:20260321T004229Z
LAST-MODIFIED:20260321T004229Z
UID:858-1789801200-1789830000@thevillageatrolesvillenc.com
SUMMARY:Fall Community Yard Sale
DESCRIPTION:
URL:https://thevillageatrolesvillenc.com/event/fall-community-yard-sale-3/
END:VEVENT
END:VCALENDAR