BEGIN:VCALENDAR
VERSION:2.0
PRODID:-//The Village at Rolesville - ECPv6.15.20//NONSGML v1.0//EN
CALSCALE:GREGORIAN
METHOD:PUBLISH
X-WR-CALNAME:The Village at Rolesville
X-ORIGINAL-URL:https://thevillageatrolesvillenc.com
X-WR-CALDESC:Events for The Village at Rolesville
REFRESH-INTERVAL;VALUE=DURATION:PT1H
X-Robots-Tag:noindex
X-PUBLISHED-TTL:PT1H
BEGIN:VTIMEZONE
TZID:UTC
BEGIN:STANDARD
TZOFFSETFROM:+0000
TZOFFSETTO:+0000
TZNAME:UTC
DTSTART:20240101T000000
END:STANDARD
END:VTIMEZONE
BEGIN:VEVENT
DTSTART;TZID=UTC:20250830T110000
DTEND;TZID=UTC:20250830T140000
DTSTAMP:20260424T062239
CREATED:20230219T202259Z
LAST-MODIFIED:20250518T133644Z
UID:719-1756551600-1756562400@thevillageatrolesvillenc.com
SUMMARY:Farewell to Summer Pool Party
DESCRIPTION:Join us for an End-of-Summer Pool Partyas we soak up the last rays of the season! \nEnjoy a fun-filled afternoon with:🍔 Lunch provided🎶 Beach music vibes🎁 Exciting door prizes \nBring your towel\, sunscreen\, and summer spirit!\n \nResidents of the Village at Rolesville and their guests only!
URL:https://thevillageatrolesvillenc.com/event/farewell-to-summer-pool-party/
END:VEVENT
END:VCALENDAR