BEGIN:VCALENDAR
VERSION:2.0
PRODID:-//The Village at Rolesville - ECPv6.15.20//NONSGML v1.0//EN
CALSCALE:GREGORIAN
METHOD:PUBLISH
X-ORIGINAL-URL:https://thevillageatrolesvillenc.com
X-WR-CALDESC:Events for The Village at Rolesville
REFRESH-INTERVAL;VALUE=DURATION:PT1H
X-Robots-Tag:noindex
X-PUBLISHED-TTL:PT1H
BEGIN:VTIMEZONE
TZID:UTC
BEGIN:STANDARD
TZOFFSETFROM:+0000
TZOFFSETTO:+0000
TZNAME:UTC
DTSTART:20220101T000000
END:STANDARD
END:VTIMEZONE
BEGIN:VEVENT
DTSTART;TZID=UTC:20230917T060000
DTEND;TZID=UTC:20230917T200000
DTSTAMP:20260425T182959
CREATED:20230219T202348Z
LAST-MODIFIED:20230219T202348Z
UID:721-1694930400-1694980800@thevillageatrolesvillenc.com
SUMMARY:2023 Pool Season Ends
DESCRIPTION:
URL:https://thevillageatrolesvillenc.com/event/2023-pool-season-ends/
END:VEVENT
END:VCALENDAR